View In:
  ArcGIS JavaScript
  ArcGIS Online Map Viewer
  ArcGIS Earth
  ArcGIS Pro
Service Description:  2018 Montrose County Imagery
Map Name:  2018 Imagery
Legend
All Layers and Tables
Dynamic Legend
Dynamic All Layers
Layers: 
Description:  2018 Montrose County Imagery
Service Item Id:  d395b2a3ada94d82922017d0f45b501b
Copyright Text:  EagleView & Montrose County 
Spatial Reference: 
102100
 (3857)
Single Fused Map Cache:  true
Tile Info: 
- Height: 256
 
- Width: 256
 
- DPI: 96
 
- 
Levels of Detail:  21
- 
Level ID: 0
[ Start Tile, End Tile ]
 
- Resolution: 156543.03392800014
 
- Scale: 5.91657527591555E8
 
- 
Level ID: 1
[ Start Tile, End Tile ]
 
- Resolution: 78271.51696399994
 
- Scale: 2.95828763795777E8
 
- 
Level ID: 2
[ Start Tile, End Tile ]
 
- Resolution: 39135.75848200009
 
- Scale: 1.47914381897889E8
 
- 
Level ID: 3
[ Start Tile, End Tile ]
 
- Resolution: 19567.87924099992
 
- Scale: 7.3957190948944E7
 
- 
Level ID: 4
[ Start Tile, End Tile ]
 
- Resolution: 9783.93962049996
 
- Scale: 3.6978595474472E7
 
- 
Level ID: 5
[ Start Tile, End Tile ]
 
- Resolution: 4891.96981024998
 
- Scale: 1.8489297737236E7
- Format: MIXED
 
- Compression Quality: 75.0
 
- Origin: X:  -2.0037508342787E7
Y:  2.0037508342787E7
 
- Spatial Reference: 102100
 (3857)
 
Storage Info: 
- Storage Format: esriMapCacheStorageModeCompactV2
 
- Packet Size: 128
 
Initial Extent: 
XMin: -1.2011247992330616E7
YMin: 4641271.759453273
XMax: -1.200739797202194E7
YMax: 4644302.78208945
Spatial Reference: 102100
 (3857)
Full Extent: 
XMin: -1.2091721421418576E7
YMin: 4607978.073542426
XMax: -1.1994689647904363E7
YMax: 4674031.267001865
Spatial Reference: 102100
 (3857)
Units:  esriMeters
Supported Image Format Types:  PNG32,PNG24,PNG,JPG,DIB,TIFF,EMF,PS,PDF,GIF,SVG,SVGZ,BMP
Document Info: 
Title: 2018 Imagery
Author: 
Comments: 2018 Montrose County Imagery
Subject: 2018 Montrose County Imagery
Category: 
Keywords: Imagery,Montrose County,Colorado
AntialiasingMode: Fast
TextAntialiasingMode: Force
Supports Dynamic Layers:  true
Resampling:  true
MaxRecordCount:  2000
MaxImageHeight:  4096
MaxImageWidth:  4096
Supported Query Formats:  JSON, geoJSON, PBF
Supports Query Data Elements:  true
Min Scale:  577790.554289
Max Scale:  564.248588
Supports Datum Transformation:  true
Child Resources:
  
Info
  Dynamic Layer
 
Supported Operations:
  
Export Map
  QueryLegends
  Return Updates